0.0359281435
0.0000000000
0.0000000000
-0.0359281435
-179.9820359283
89.9820359282
