0.03592814350000
0.00000000000000
0.00000000000000
-0.03592814370000
-85.41916123825000
15.10778445815000
