0.0003430000
0.0000000000
0.0000000000
-0.0003430000
-65.0393080759
-1.9414708987
