0.00005012489245
0.00000000000000
0.00000000000000
-0.00005012489245
-63.31576910642297
-4.57916648184361
