0,8001777722
0,0000000000
0,0000000000
-0,8001777722
486404,4428611778
8645801,9067322630
