29.5675484216
0.0000000000
0.0000000000
-29.5675484216
473099.9748929651
8662727.2077375855
