3292,2384632522
0,0000000000
0,0000000000
-3292,2384632522
67547,5069078627
9086962,2349157408
