5,0000000000
0,0000000000
0,0000000000
-5,0000000000
493155,5739000002
8639095,8311000001
