5,0000000000
0,0000000000
0,0000000000
-5,0000000000
473123,3264890530
8662712,8904561698
