38,2185141426
0,0000000000
0,0000000000
-38,2185141426
473133,6892570713
8662691,4279467911
