5,0000000000
0,0000000000
0,0000000000
-5,0000000000
473122,3208999997
8662715,0293000005
