5,0000000000
0,0000000000
0,0000000000
-5,0000000000
497254,0237697911
8639087,1551598478
