5,0000000000
0,0000000000
0,0000000000
-5,0000000000
459182,3208999997
8673445,0293000005
