30,4916986134
0,0000000000
0,0000000000
-30,4916986134
500015,2458493067
8673431,1183453649
