{"text_format":"3","workbook":"xlsx","n_sheets":1,"sheets":["Planilha1"],"not_rendered":{"images":1,"macros":1},"read":"whole","date_system":"1900"}

{"sheet":"Planilha1","index":0,"n_rows":75,"n_cols":11,"rows_kept":75}
[]
[]
[]
[null,"Relatório Semestral de Monitoramento da água produzida Descartada em Plataformas. "]
[null,"Em atendimento ao art. 12 da Resolução CONAMA 393, de 08 de agosto de 2007, e se refere à"]
[]
[null,"PETROBRAS 50 - P-50 - Overboard - Embarcação"]
[]
[null,"1. CARACTERIZAÇÃO QUALITATIVA DA ÁGUA PRODUZIDA DESCARTADA EM "]
[null,"PLATAFORMA MARITIMA DE PETRÓLEO E GÁS NATURAL"]
[]
[{"$nulls":5},"PARÂMETROS DE MONITORAMENTO - Art. 10 Res. CONAMA 393"]
[{"$nulls":4},"Semestre 1",null,null,"Semestre 2"]
[]
[null,"Data da coleta",null,null,{"$f":"IFERROR(#REF!,\"\")","v":""},null,null,{"$f":"IFERROR(#REF!,\"\")","v":""}]
[null,"COMPOSTOS",null,null,"Semestre 1","LD","LQ","Semestre 2","LD","LQ"]
[null,"INORGÂNICOS"]
[null,"Arsênio",null,"(mg/L)","ND",{"$f":"IFERROR(VALUE(VLOOKUP(B18,#REF!,8,FALSE)),\"NA\")","v":"NA"},{"v":0.4,"d":"0.400"},{"$f":"IFERROR(VLOOKUP(B18,#REF!,6,FALSE),\"NRA\")","v":"NRA"},{"$f":"F18","v":"NA"},{"v":0.25,"d":"0.250"}]
[null,"Bário",null,"(mg/L)",6.44,{"$f":"IFERROR(VALUE(VLOOKUP(B19,#REF!,8,FALSE)),\"NA\")","v":"NA"},{"v":0.4,"d":"0.400"},{"$f":"IFERROR(VLOOKUP(B19,#REF!,6,FALSE),\"NRA\")","v":"NRA"},{"$f":"F19","v":"NA"},{"v":0.25,"d":"0.250"}]
[null,"Cádmio",null,"(mg/L)","<0,04",{"$f":"IFERROR(VALUE(VLOOKUP(B20,#REF!,8,FALSE)),\"NA\")","v":"NA"},{"v":0.04,"d":"0.040"},{"$f":"IFERROR(VLOOKUP(B20,#REF!,6,FALSE),\"NRA\")","v":"NRA"},"NA",0.025]
[null,"Cromo",null,"(mg/L)",{"$f":"IFERROR(VLOOKUP(B21,#REF!,5,FALSE),\"NRA\")","v":"NRA"},{"$f":"IFERROR(VALUE(VLOOKUP(B21,#REF!,8,FALSE)),\"NA\")","v":"NA"},{"v":0.4,"d":"0.400"},{"$f":"IFERROR(VLOOKUP(B21,#REF!,6,FALSE),\"NRA\")","v":"NRA"},"NA",{"v":0.25,"d":"0.250"}]
[null,"Cobre",null,"(mg/L)",{"$f":"IFERROR(VLOOKUP(B22,#REF!,5,FALSE),\"NRA\")","v":"NRA"},{"$f":"IFERROR(VALUE(VLOOKUP(B22,#REF!,8,FALSE)),\"NA\")","v":"NA"},{"v":0.2,"d":"0.200"},{"$f":"IFERROR(VLOOKUP(B22,#REF!,6,FALSE),\"NRA\")","v":"NRA"},"NA",0.125]
[null,"Ferro",null,"(mg/L)",{"$f":"IFERROR(VLOOKUP(B23,#REF!,5,FALSE),\"NRA\")","v":"NRA"},{"$f":"IFERROR(VALUE(VLOOKUP(B23,#REF!,8,FALSE)),\"NA\")","v":"NA"},{"v":0.2,"d":"0.200"},{"$f":"IFERROR(VLOOKUP(B23,#REF!,6,FALSE),\"NRA\")","v":"NRA"},"NA",{"v":1.25,"d":"1.250"}]
[null,"Mercúrio",null,"(mg/L)",{"$f":"IFERROR(VLOOKUP(B24,#REF!,5,FALSE),\"NRA\")","v":"NRA"},{"$f":"IFERROR(VALUE(VLOOKUP(B24,#REF!,8,FALSE)),\"NA\")","v":"NA"},{"$f":"IFERROR(VALUE(VLOOKUP(B24,#REF!,7,FALSE)),\"NA\")","v":"NA"},{"$f":"IFERROR(VLOOKUP(B24,#REF!,6,FALSE),\"NRA\")","v":"NRA"},"NA","NA"," "]
[null,"Manganês",null,"(mg/L)",{"$f":"IFERROR(VLOOKUP(B25,#REF!,5,FALSE),\"NRA\")","v":"NRA"},{"$f":"IFERROR(VALUE(VLOOKUP(B25,#REF!,8,FALSE)),\"NA\")","v":"NA"},{"v":2,"d":"2.000"},{"$f":"IFERROR(VLOOKUP(B25,#REF!,6,FALSE),\"NRA\")","v":"NRA"},"NA",{"v":1.25,"d":"1.250"}]
[null,"Níquel",null,"(mg/L)","ND",{"$f":"IFERROR(VALUE(VLOOKUP(B26,#REF!,8,FALSE)),\"NA\")","v":"NA"},{"v":0.4,"d":"0.400"},{"$f":"IFERROR(VLOOKUP(B26,#REF!,6,FALSE),\"NRA\")","v":"NRA"},"NA",{"v":0.25,"d":"0.250"}]
[null,"Chumbo",null,"(mg/L)",{"$f":"IFERROR(VLOOKUP(B27,#REF!,5,FALSE),\"NRA\")","v":"NRA"},{"$f":"IFERROR(VALUE(VLOOKUP(B27,#REF!,8,FALSE)),\"NA\")","v":"NA"},{"v":0.4,"d":"0.400"},{"$f":"IFERROR(VLOOKUP(B27,#REF!,6,FALSE),\"NRA\")","v":"NRA"},"NA",{"v":0.25,"d":"0.250"}]
[null,"Vanádio",null,"(mg/L)",{"$f":"IFERROR(VLOOKUP(B28,#REF!,5,FALSE),\"NRA\")","v":"NRA"},{"$f":"IFERROR(VALUE(VLOOKUP(B28,#REF!,8,FALSE)),\"NA\")","v":"NA"},{"v":0.4,"d":"0.400"},{"$f":"IFERROR(VLOOKUP(B28,#REF!,6,FALSE),\"NRA\")","v":"NRA"},"NA",{"v":0.5,"d":"0.500"}]
[null,"Zinco",null,"(mg/L)",{"$f":"IFERROR(VLOOKUP(B29,#REF!,5,FALSE),\"NRA\")","v":"NRA"},{"$f":"IFERROR(VALUE(VLOOKUP(B29,#REF!,8,FALSE)),\"NA\")","v":"NA"},{"v":2,"d":"2.000"},{"$f":"IFERROR(VLOOKUP(B29,#REF!,6,FALSE),\"NRA\")","v":"NRA"},"NA",{"v":2.5,"d":"2.500"}]
[null,"RADIOISÓTOPOS",null,null,"Semestre 1","LD","LQ","Semestre 2","LD","LQ"]
[]
[null,"Rádio - 226",null,"(Bq/L)",{"$f":"IFERROR(VLOOKUP(B32,#REF!,5,FALSE),\"NRA\")","v":"NRA"},{"$f":"IFERROR(VALUE(VLOOKUP(B32,#REF!,8,FALSE)),\"NA\")","v":"NA"},{"$f":"IFERROR(VALUE(VLOOKUP(B32,#REF!,7,FALSE)),\"NA\")","v":"NA"},{"$f":"IFERROR(VLOOKUP(B32,#REF!,6,FALSE),\"NRA\")","v":"NRA"},{"$f":"F32","v":"NA"},{"$f":"G32","v":"NA"}]
[null,"Rádio - 228",null,"(Bq/L)",{"$f":"IFERROR(VLOOKUP(B33,#REF!,5,FALSE),\"NRA\")","v":"NRA"},{"$f":"IFERROR(VALUE(VLOOKUP(B33,#REF!,8,FALSE)),\"NA\")","v":"NA"},{"v":0.1,"d":"0.100"},{"$f":"IFERROR(VLOOKUP(B33,#REF!,6,FALSE),\"NRA\")","v":"NRA"},{"$f":"F33","v":"NA"},{"v":0.1,"d":"0.100"}]
[null,"COMPOSTOS",null,null,"Semestre 1","LD","LQ","Semestre 2","LD","LQ"]
[null,"ORGÂNICOS"]
[null,"HPA's",null,null,{"$f":"IFERROR(VLOOKUP(B36,#REF!,5,FALSE),\"NRA\")","v":"NRA"},{"$f":"IFERROR(VALUE(VLOOKUP(B36,#REF!,8,FALSE)),\"NA\")","v":"NA"},{"$f":"IFERROR(VALUE(VLOOKUP(B36,#REF!,7,FALSE)),\"NA\")","v":"NA"},{"$f":"IFERROR(VLOOKUP(B36,#REF!,6,FALSE),\"NRA\")","v":"NRA"},{"$f":"F36","v":"NA"},{"$f":"G36","v":"NA"}]
[null,"Naftaleno",null,"(µg/L)",{"$f":"IFERROR(VLOOKUP(B37,#REF!,5,FALSE),\"NRA\")","v":"NRA"},{"$f":"IFERROR(VALUE(VLOOKUP(B37,#REF!,8,FALSE)),\"NA\")","v":"NA"},{"$f":"IFERROR(VALUE(VLOOKUP(B37,#REF!,7,FALSE)),\"NA\")","v":"NA"},{"$f":"IFERROR(VLOOKUP(B37,#REF!,6,FALSE),\"NRA\")","v":"NRA"},{"$f":"F37","v":"NA"},"NA"]
[null,"Acenafteno",null,"(µg/L)",{"$f":"IFERROR(VLOOKUP(B38,#REF!,5,FALSE),\"NRA\")","v":"NRA"},{"v":2E-3,"d":"0.002"},0.008,{"$f":"IFERROR(VLOOKUP(B38,#REF!,6,FALSE),\"NRA\")","v":"NRA"},{"v":2E-3,"d":"0.002"},0.008]
[null,"Acenaftaleno",null,"(µg/L)","ND",{"v":2E-3,"d":"0.002"},0.007,{"$f":"IFERROR(VLOOKUP(B39,#REF!,6,FALSE),\"NRA\")","v":"NRA"},{"v":2E-3,"d":"0.002"},0.007]
[null,"Antraceno",null,"(µg/L)","ND",{"$f":"IFERROR(VALUE(VLOOKUP(B40,#REF!,8,FALSE)),\"NA\")","v":"NA"},{"$f":"IFERROR(VALUE(VLOOKUP(B40,#REF!,7,FALSE)),\"NA\")","v":"NA"},{"$f":"IFERROR(VLOOKUP(B40,#REF!,6,FALSE),\"NRA\")","v":"NRA"},"NA","NA"]
[null,"Fenantreno",null,"(µg/L)",{"$f":"IFERROR(VLOOKUP(B41,#REF!,5,FALSE),\"NRA\")","v":"NRA"},{"$f":"IFERROR(VALUE(VLOOKUP(B41,#REF!,8,FALSE)),\"NA\")","v":"NA"},{"$f":"IFERROR(VALUE(VLOOKUP(B41,#REF!,7,FALSE)),\"NA\")","v":"NA"},{"$f":"IFERROR(VLOOKUP(B41,#REF!,6,FALSE),\"NRA\")","v":"NRA"},"NA","NA"]
[null,"Fluoreno",null,"(µg/L)",{"$f":"IFERROR(VLOOKUP(B42,#REF!,5,FALSE),\"NRA\")","v":"NRA"},{"$f":"IFERROR(VALUE(VLOOKUP(B42,#REF!,8,FALSE)),\"NA\")","v":"NA"},{"$f":"IFERROR(VALUE(VLOOKUP(B42,#REF!,7,FALSE)),\"NA\")","v":"NA"},{"$f":"IFERROR(VLOOKUP(B42,#REF!,6,FALSE),\"NRA\")","v":"NRA"},"NA","NA"]
[null,"Fluoranteno",null,"(µg/L)","ND",{"$f":"IFERROR(VALUE(VLOOKUP(B43,#REF!,8,FALSE)),\"NA\")","v":"NA"},{"$f":"IFERROR(VALUE(VLOOKUP(B43,#REF!,7,FALSE)),\"NA\")","v":"NA"},{"$f":"IFERROR(VLOOKUP(B43,#REF!,6,FALSE),\"NRA\")","v":"NRA"},"NA","NA"]
[null,"Pireno",null,"(µg/L)","ND",{"$f":"IFERROR(VALUE(VLOOKUP(B44,#REF!,8,FALSE)),\"NA\")","v":"NA"},{"$f":"IFERROR(VALUE(VLOOKUP(B44,#REF!,7,FALSE)),\"NA\")","v":"NA"},{"$f":"IFERROR(VLOOKUP(B44,#REF!,6,FALSE),\"NRA\")","v":"NRA"},"NA","NA"]
[null,"Benzo(a)antraceno",null,"(µg/L)","ND",{"$f":"IFERROR(VALUE(VLOOKUP(B45,#REF!,8,FALSE)),\"NA\")","v":"NA"},{"$f":"IFERROR(VALUE(VLOOKUP(B45,#REF!,7,FALSE)),\"NA\")","v":"NA"},{"$f":"IFERROR(VLOOKUP(B45,#REF!,6,FALSE),\"NRA\")","v":"NRA"},"NA","NA"]
[null,"Benzo(a)pireno",null,"(µg/L)",{"$f":"IFERROR(VLOOKUP(B46,#REF!,5,FALSE),\"NRA\")","v":"NRA"},{"$f":"IFERROR(VALUE(VLOOKUP(B46,#REF!,8,FALSE)),\"NA\")","v":"NA"},{"$f":"IFERROR(VALUE(VLOOKUP(B46,#REF!,7,FALSE)),\"NA\")","v":"NA"},{"$f":"IFERROR(VLOOKUP(B46,#REF!,6,FALSE),\"NRA\")","v":"NRA"},"NA","NA"]
[null,"Benzo(b)fluoranteno",null,"(µg/L)",{"$f":"IFERROR(VLOOKUP(B47,#REF!,5,FALSE),\"NRA\")","v":"NRA"},{"$f":"IFERROR(VALUE(VLOOKUP(B47,#REF!,8,FALSE)),\"NA\")","v":"NA"},{"$f":"IFERROR(VALUE(VLOOKUP(B47,#REF!,7,FALSE)),\"NA\")","v":"NA"},{"$f":"IFERROR(VLOOKUP(B47,#REF!,6,FALSE),\"NRA\")","v":"NRA"},"NA","NA"]
[null,"Benzo(k)fluoranteno",null,"(µg/L)",{"$f":"IFERROR(VLOOKUP(B48,#REF!,5,FALSE),\"NRA\")","v":"NRA"},{"$f":"IFERROR(VALUE(VLOOKUP(B48,#REF!,8,FALSE)),\"NA\")","v":"NA"},{"$f":"IFERROR(VALUE(VLOOKUP(B48,#REF!,7,FALSE)),\"NA\")","v":"NA"},{"$f":"IFERROR(VLOOKUP(B48,#REF!,6,FALSE),\"NRA\")","v":"NRA"},"NA","NA"]
[null,"Criseno",null,"(µg/L)",{"$f":"IFERROR(VLOOKUP(B49,#REF!,5,FALSE),\"NRA\")","v":"NRA"},{"$f":"IFERROR(VALUE(VLOOKUP(B49,#REF!,8,FALSE)),\"NA\")","v":"NA"},{"$f":"IFERROR(VALUE(VLOOKUP(B49,#REF!,7,FALSE)),\"NA\")","v":"NA"},{"$f":"IFERROR(VLOOKUP(B49,#REF!,6,FALSE),\"NRA\")","v":"NRA"},"NA","NA"]
[null,"Benzo(ghi)perileno",null,"(µg/L)",{"$f":"IFERROR(VLOOKUP(B50,#REF!,5,FALSE),\"NRA\")","v":"NRA"},{"$f":"IFERROR(VALUE(VLOOKUP(B50,#REF!,8,FALSE)),\"NA\")","v":"NA"},{"$f":"IFERROR(VALUE(VLOOKUP(B50,#REF!,7,FALSE)),\"NA\")","v":"NA"},{"$f":"IFERROR(VLOOKUP(B50,#REF!,6,FALSE),\"NRA\")","v":"NRA"},"NA","NA"]
[null,"Dibenzo(a,h)anthraceno",null,"(µg/L)","ND",{"$f":"IFERROR(VALUE(VLOOKUP(B51,#REF!,8,FALSE)),\"NA\")","v":"NA"},{"$f":"IFERROR(VALUE(VLOOKUP(B51,#REF!,7,FALSE)),\"NA\")","v":"NA"},{"$f":"IFERROR(VLOOKUP(B51,#REF!,6,FALSE),\"NRA\")","v":"NRA"},"NA","NA"]
[null,"Indeno(1,2,3-cd)pireno",null,"(µg/L)","ND",{"$f":"IFERROR(VALUE(VLOOKUP(B52,#REF!,8,FALSE)),\"NA\")","v":"NA"},{"$f":"IFERROR(VALUE(VLOOKUP(B52,#REF!,7,FALSE)),\"NA\")","v":"NA"},"ND","NA","NA"]
[null,"BTEX",null,"(µg/L)",{"$f":"IFERROR(VLOOKUP(B53,#REF!,5,FALSE),\"NRA\")","v":"NRA"},{"$f":"IFERROR(VALUE(VLOOKUP(B53,#REF!,8,FALSE)),\"NA\")","v":"NA"},{"$f":"IFERROR(VALUE(VLOOKUP(B53,#REF!,7,FALSE)),\"NA\")","v":"NA"},{"$f":"IFERROR(VLOOKUP(B53,#REF!,6,FALSE),\"NRA\")","v":"NRA"},"NA","NA"]
[null,"Benzeno",null,"(µg/L)",{"$f":"IFERROR(VLOOKUP(B54,#REF!,5,FALSE),\"NRA\")","v":"NRA"},{"$f":"IFERROR(VALUE(VLOOKUP(B54,#REF!,8,FALSE)),\"NA\")","v":"NA"},{"$f":"IFERROR(VALUE(VLOOKUP(B54,#REF!,7,FALSE)),\"NA\")","v":"NA"},{"$f":"IFERROR(VLOOKUP(B54,#REF!,6,FALSE),\"NRA\")","v":"NRA"},"NA",{"v":1.5,"d":"1.500"}]
[null,"Tolueno",null,"(µg/L)",{"$f":"IFERROR(VLOOKUP(B55,#REF!,5,FALSE),\"NRA\")","v":"NRA"},{"$f":"IFERROR(VALUE(VLOOKUP(B55,#REF!,8,FALSE)),\"NA\")","v":"NA"},{"$f":"IFERROR(VALUE(VLOOKUP(B55,#REF!,7,FALSE)),\"NA\")","v":"NA"},{"$f":"IFERROR(VLOOKUP(B55,#REF!,6,FALSE),\"NRA\")","v":"NRA"},"NA","NA"]
[null,"Etilbenzeno",null,"(µg/L)",{"$f":"IFERROR(VLOOKUP(B56,#REF!,5,FALSE),\"NRA\")","v":"NRA"},{"v":2,"d":"2.000"},{"$f":"IFERROR(VALUE(VLOOKUP(B56,#REF!,7,FALSE)),\"NA\")","v":"NA"},{"$f":"IFERROR(VLOOKUP(B56,#REF!,6,FALSE),\"NRA\")","v":"NRA"},{"v":2,"d":"2.000"},{"v":1.5,"d":"1.500"}]
[null,"o-Xilenos",null,"(µg/L)",{"$f":"IFERROR(VLOOKUP(B57,#REF!,5,FALSE),\"NRA\")","v":"NRA"},{"$f":"IFERROR(VALUE(VLOOKUP(B57,#REF!,8,FALSE)),\"NA\")","v":"NA"},{"$f":"IFERROR(VALUE(VLOOKUP(B57,#REF!,7,FALSE)),\"NA\")","v":"NA"},{"$f":"IFERROR(VLOOKUP(B57,#REF!,6,FALSE),\"NRA\")","v":"NRA"},"NA",{"v":1.5,"d":"1.500"}]
[null,"m,p-Xilenos",null,"(µg/L)",{"$f":"IFERROR(VLOOKUP(B58,#REF!,5,FALSE),\"NRA\")","v":"NRA"},{"$f":"IFERROR(VALUE(VLOOKUP(B58,#REF!,8,FALSE)),\"NA\")","v":"NA"},{"$f":"IFERROR(VALUE(VLOOKUP(B58,#REF!,7,FALSE)),\"NA\")","v":"NA"},{"$f":"IFERROR(VLOOKUP(B58,#REF!,6,FALSE),\"NRA\")","v":"NRA"},"NA",{"v":1.5,"d":"1.500"}]
[null,"Fenóis",null,"(µg/L)",{"$f":"IFERROR(VLOOKUP(B59,#REF!,5,FALSE),\"NRA\")","v":"NRA"},{"$f":"IFERROR(VALUE(VLOOKUP(B59,#REF!,8,FALSE)),\"NA\")","v":"NA"},{"$f":"IFERROR(VALUE(VLOOKUP(B59,#REF!,7,FALSE)),\"NA\")","v":"NA"},{"$f":"IFERROR(VLOOKUP(B59,#REF!,6,FALSE),\"NRA\")","v":"NRA"},"NA","NA"]
[null,"Óleos e Graxas",null,"mg/L",{"$f":"IFERROR(VLOOKUP(B60,#REF!,5,FALSE),\"NRA\")","v":"NRA"},{"$f":"IFERROR(VALUE(VLOOKUP(B60,#REF!,8,FALSE)),\"NA\")","v":"NA"},{"$f":"IFERROR(VALUE(VLOOKUP(B60,#REF!,7,FALSE)),\"NA\")","v":"NA"},{"$f":"IFERROR(VLOOKUP(B60,#REF!,6,FALSE),\"NRA\")","v":"NRA"},"NA","NA"]
[null,"PARÂMETROS",null,null,"Semestre 1","LD","LQ","Semestre 2","LD","LQ"]
[null,"COMPLEMENTARES"]
[null,"Carbono Orgânico Total ",null,"mg/L",{"$f":"IFERROR(VLOOKUP(B63,#REF!,5,FALSE),\"NRA\")","v":"NRA"},{"$f":"IFERROR(VALUE(VLOOKUP(B63,#REF!,8,FALSE)),\"NA\")","v":"NA"},{"v":2.5,"d":"2.500"},{"$f":"IFERROR(VLOOKUP(B63,#REF!,6,FALSE),\"NRA\")","v":"NRA"},{"$f":"F63","v":"NA"},{"v":25,"d":"25.000"}]
[null,"pH",null,null,7.03,{"$f":"IFERROR(VALUE(VLOOKUP(B64,#REF!,8,FALSE)),\"NA\")","v":"NA"},{"$f":"IFERROR(VALUE(VLOOKUP(B64,#REF!,7,FALSE)),\"NA\")","v":"NA"},6.83,"NA","NA"]
[null,"Salinidade",null,"mg/L NaCl",{"$f":"IFERROR(VLOOKUP(B65,#REF!,5,FALSE),\"NRA\")","v":"NRA"},{"$f":"IFERROR(VALUE(VLOOKUP(B65,#REF!,8,FALSE)),\"NA\")","v":"NA"},{"$f":"IFERROR(VALUE(VLOOKUP(B65,#REF!,7,FALSE)),\"NA\")","v":"NA"},{"$f":"IFERROR(VLOOKUP(B65,#REF!,6,FALSE),\"NRA\")","v":"NRA"},"NA","NA"]
[null,"Temperatura",null,"º C",{"v":31.3,"d":"31.30"},{"$f":"IFERROR(VALUE(VLOOKUP(B66,#REF!,8,FALSE)),\"NA\")","v":"NA"},{"$f":"IFERROR(VALUE(VLOOKUP(B66,#REF!,7,FALSE)),\"NA\")","v":"NA"},{"v":60.7,"d":"60.70"},"NA","NA"]
[null,"Nitrogênio Amoniacal Total",null,"mg/L",{"$f":"IFERROR(VLOOKUP(B67,#REF!,5,FALSE),\"NRA\")","v":"NRA"},{"v":0.6,"d":"0.600"},{"v":2,"d":"2.000"},{"$f":"IFERROR(VLOOKUP(B67,#REF!,6,FALSE),\"NRA\")","v":"NRA"},{"v":0.6,"d":"0.600"},{"v":2,"d":"2.000"}]
[null,"ENSAIOS DE TOXICIDADE",null,null,"Semestre 1","LD","LQ","Semestre 2","LD","LQ"]
[null,"CRÔNICA"]
[null,"Organismo",null,null,"Echinometria lucunter",null,null,"Echinometria lucunter"]
[null,"CENO",null,"%",{"$f":"IFERROR(VLOOKUP(B71,#REF!,5,FALSE),\"NRA\")","v":"NRA"},{"$f":"IFERROR(VALUE(VLOOKUP(B71,#REF!,8,FALSE)),\"NA\")","v":"NA"},{"$f":"IFERROR(VALUE(VLOOKUP(B71,#REF!,7,FALSE)),\"NA\")","v":"NA"},{"$f":"IFERROR(VLOOKUP(B71,#REF!,6,FALSE),\"NRA\")","v":"NRA"},{"$f":"F71","v":"NA"},{"$f":"G71","v":"NA"}]
[null,"CEO",null,"%",{"$f":"IFERROR(VLOOKUP(B72,#REF!,5,FALSE),\"NRA\")","v":"NRA"},{"$f":"IFERROR(VALUE(VLOOKUP(B72,#REF!,8,FALSE)),\"NA\")","v":"NA"},{"$f":"IFERROR(VALUE(VLOOKUP(B72,#REF!,7,FALSE)),\"NA\")","v":"NA"},{"$f":"IFERROR(VLOOKUP(B72,#REF!,6,FALSE),\"NRA\")","v":"NRA"},{"$f":"F72","v":"NA"},{"$f":"G72","v":"NA"}]
[null,"NRA: Não realizada a análise"]
[null,"N.D.:Não detectado acima do limite de detecção"]
[null,"NA: Não Aplicável"]