{"text_format":"3","workbook":"xlsx","n_sheets":1,"sheets":["Planilha1"],"not_rendered":{"images":1,"macros":1},"read":"whole","date_system":"1900"}

{"sheet":"Planilha1","index":0,"n_rows":76,"n_cols":12,"rows_kept":76}
[]
[]
[]
[]
[null,null,"Relatório Semestral de Monitoramento da água produzida Descartada em Plataformas. "]
[null,null,"Em atendimento ao art. 12 da Resolução CONAMA 393, de 08 de agosto de 2007, e se refere à"]
[]
[null,null,"PETROBRAS 48 - P-48 - Saída do Tanque - 03"]
[]
[null,null,"1. CARACTERIZAÇÃO QUALITATIVA DA ÁGUA PRODUZIDA DESCARTADA EM "]
[null,null,"PLATAFORMA MARITIMA DE PETRÓLEO E GÁS NATURAL"]
[]
[{"$nulls":6},"PARÂMETROS DE MONITORAMENTO - Art. 10 Res. CONAMA 393"]
[{"$nulls":5},"Semestre 1",null,null,"Semestre 2"]
[]
[null,null,"Data da coleta",null,null,{"$f":"IFERROR(#REF!,\"\")","v":""},null,null,{"$f":"IFERROR(#REF!,\"\")","v":""}]
[null,null,"COMPOSTOS",null,null,"Semestre 1","LD","LQ","Semestre 2","LD","LQ"]
[null,null,"INORGÂNICOS"]
[null,null,"Arsênio",null,"(mg/L)","ND",{"$f":"IFERROR(VALUE(VLOOKUP(C19,#REF!,8,FALSE)),\"NA\")","v":"NA"},{"v":0.4,"d":"0.400"},{"$f":"IFERROR(VLOOKUP(C19,#REF!,6,FALSE),\"NRA\")","v":"NRA"},{"$f":"G19","v":"NA"},{"v":0.25,"d":"0.250"}]
[null,null,"Bário",null,"(mg/L)",6.44,{"$f":"IFERROR(VALUE(VLOOKUP(C20,#REF!,8,FALSE)),\"NA\")","v":"NA"},{"v":0.4,"d":"0.400"},{"$f":"IFERROR(VLOOKUP(C20,#REF!,6,FALSE),\"NRA\")","v":"NRA"},{"$f":"G20","v":"NA"},{"v":0.25,"d":"0.250"}]
[null,null,"Cádmio",null,"(mg/L)","<0,04",{"$f":"IFERROR(VALUE(VLOOKUP(C21,#REF!,8,FALSE)),\"NA\")","v":"NA"},{"v":0.04,"d":"0.040"},{"$f":"IFERROR(VLOOKUP(C21,#REF!,6,FALSE),\"NRA\")","v":"NRA"},"NA",0.025]
[null,null,"Cromo",null,"(mg/L)",{"$f":"IFERROR(VLOOKUP(C22,#REF!,5,FALSE),\"NRA\")","v":"NRA"},{"$f":"IFERROR(VALUE(VLOOKUP(C22,#REF!,8,FALSE)),\"NA\")","v":"NA"},{"v":0.4,"d":"0.400"},{"$f":"IFERROR(VLOOKUP(C22,#REF!,6,FALSE),\"NRA\")","v":"NRA"},"NA",{"v":0.25,"d":"0.250"}]
[null,null,"Cobre",null,"(mg/L)",{"$f":"IFERROR(VLOOKUP(C23,#REF!,5,FALSE),\"NRA\")","v":"NRA"},{"$f":"IFERROR(VALUE(VLOOKUP(C23,#REF!,8,FALSE)),\"NA\")","v":"NA"},{"v":0.2,"d":"0.200"},{"$f":"IFERROR(VLOOKUP(C23,#REF!,6,FALSE),\"NRA\")","v":"NRA"},"NA",0.125]
[null,null,"Ferro",null,"(mg/L)",{"$f":"IFERROR(VLOOKUP(C24,#REF!,5,FALSE),\"NRA\")","v":"NRA"},{"$f":"IFERROR(VALUE(VLOOKUP(C24,#REF!,8,FALSE)),\"NA\")","v":"NA"},{"v":0.2,"d":"0.200"},{"$f":"IFERROR(VLOOKUP(C24,#REF!,6,FALSE),\"NRA\")","v":"NRA"},"NA",{"v":1.25,"d":"1.250"}]
[null,null,"Mercúrio",null,"(mg/L)",{"$f":"IFERROR(VLOOKUP(C25,#REF!,5,FALSE),\"NRA\")","v":"NRA"},{"$f":"IFERROR(VALUE(VLOOKUP(C25,#REF!,8,FALSE)),\"NA\")","v":"NA"},{"$f":"IFERROR(VALUE(VLOOKUP(C25,#REF!,7,FALSE)),\"NA\")","v":"NA"},{"$f":"IFERROR(VLOOKUP(C25,#REF!,6,FALSE),\"NRA\")","v":"NRA"},"NA","NA"," "]
[null,null,"Manganês",null,"(mg/L)",{"$f":"IFERROR(VLOOKUP(C26,#REF!,5,FALSE),\"NRA\")","v":"NRA"},{"$f":"IFERROR(VALUE(VLOOKUP(C26,#REF!,8,FALSE)),\"NA\")","v":"NA"},{"v":2,"d":"2.000"},{"$f":"IFERROR(VLOOKUP(C26,#REF!,6,FALSE),\"NRA\")","v":"NRA"},"NA",{"v":1.25,"d":"1.250"}]
[null,null,"Níquel",null,"(mg/L)","ND",{"$f":"IFERROR(VALUE(VLOOKUP(C27,#REF!,8,FALSE)),\"NA\")","v":"NA"},{"v":0.4,"d":"0.400"},{"$f":"IFERROR(VLOOKUP(C27,#REF!,6,FALSE),\"NRA\")","v":"NRA"},"NA",{"v":0.25,"d":"0.250"}]
[null,null,"Chumbo",null,"(mg/L)",{"$f":"IFERROR(VLOOKUP(C28,#REF!,5,FALSE),\"NRA\")","v":"NRA"},{"$f":"IFERROR(VALUE(VLOOKUP(C28,#REF!,8,FALSE)),\"NA\")","v":"NA"},{"v":0.4,"d":"0.400"},{"$f":"IFERROR(VLOOKUP(C28,#REF!,6,FALSE),\"NRA\")","v":"NRA"},"NA",{"v":0.25,"d":"0.250"}]
[null,null,"Vanádio",null,"(mg/L)",{"$f":"IFERROR(VLOOKUP(C29,#REF!,5,FALSE),\"NRA\")","v":"NRA"},{"$f":"IFERROR(VALUE(VLOOKUP(C29,#REF!,8,FALSE)),\"NA\")","v":"NA"},{"v":0.4,"d":"0.400"},{"$f":"IFERROR(VLOOKUP(C29,#REF!,6,FALSE),\"NRA\")","v":"NRA"},"NA",{"v":0.5,"d":"0.500"}]
[null,null,"Zinco",null,"(mg/L)",{"$f":"IFERROR(VLOOKUP(C30,#REF!,5,FALSE),\"NRA\")","v":"NRA"},{"$f":"IFERROR(VALUE(VLOOKUP(C30,#REF!,8,FALSE)),\"NA\")","v":"NA"},{"v":2,"d":"2.000"},{"$f":"IFERROR(VLOOKUP(C30,#REF!,6,FALSE),\"NRA\")","v":"NRA"},"NA",{"v":2.5,"d":"2.500"}]
[null,null,"RADIOISÓTOPOS",null,null,"Semestre 1","LD","LQ","Semestre 2","LD","LQ"]
[]
[null,null,"Rádio - 226",null,"(Bq/L)",{"$f":"IFERROR(VLOOKUP(C33,#REF!,5,FALSE),\"NRA\")","v":"NRA"},{"$f":"IFERROR(VALUE(VLOOKUP(C33,#REF!,8,FALSE)),\"NA\")","v":"NA"},{"$f":"IFERROR(VALUE(VLOOKUP(C33,#REF!,7,FALSE)),\"NA\")","v":"NA"},{"$f":"IFERROR(VLOOKUP(C33,#REF!,6,FALSE),\"NRA\")","v":"NRA"},{"$f":"G33","v":"NA"},{"$f":"H33","v":"NA"}]
[null,null,"Rádio - 228",null,"(Bq/L)",{"$f":"IFERROR(VLOOKUP(C34,#REF!,5,FALSE),\"NRA\")","v":"NRA"},{"$f":"IFERROR(VALUE(VLOOKUP(C34,#REF!,8,FALSE)),\"NA\")","v":"NA"},{"v":0.1,"d":"0.100"},{"$f":"IFERROR(VLOOKUP(C34,#REF!,6,FALSE),\"NRA\")","v":"NRA"},{"$f":"G34","v":"NA"},{"v":0.1,"d":"0.100"}]
[null,null,"COMPOSTOS",null,null,"Semestre 1","LD","LQ","Semestre 2","LD","LQ"]
[null,null,"ORGÂNICOS"]
[null,null,"HPA's",null,null,{"$f":"IFERROR(VLOOKUP(C37,#REF!,5,FALSE),\"NRA\")","v":"NRA"},{"$f":"IFERROR(VALUE(VLOOKUP(C37,#REF!,8,FALSE)),\"NA\")","v":"NA"},{"$f":"IFERROR(VALUE(VLOOKUP(C37,#REF!,7,FALSE)),\"NA\")","v":"NA"},{"$f":"IFERROR(VLOOKUP(C37,#REF!,6,FALSE),\"NRA\")","v":"NRA"},{"$f":"G37","v":"NA"},{"$f":"H37","v":"NA"}]
[null,null,"Naftaleno",null,"(µg/L)",{"$f":"IFERROR(VLOOKUP(C38,#REF!,5,FALSE),\"NRA\")","v":"NRA"},{"$f":"IFERROR(VALUE(VLOOKUP(C38,#REF!,8,FALSE)),\"NA\")","v":"NA"},{"$f":"IFERROR(VALUE(VLOOKUP(C38,#REF!,7,FALSE)),\"NA\")","v":"NA"},{"$f":"IFERROR(VLOOKUP(C38,#REF!,6,FALSE),\"NRA\")","v":"NRA"},{"$f":"G38","v":"NA"},"NA"]
[null,null,"Acenafteno",null,"(µg/L)",{"$f":"IFERROR(VLOOKUP(C39,#REF!,5,FALSE),\"NRA\")","v":"NRA"},{"v":2E-3,"d":"0.002"},0.008,{"$f":"IFERROR(VLOOKUP(C39,#REF!,6,FALSE),\"NRA\")","v":"NRA"},{"v":2E-3,"d":"0.002"},0.008]
[null,null,"Acenaftaleno",null,"(µg/L)","ND",{"v":2E-3,"d":"0.002"},0.007,{"$f":"IFERROR(VLOOKUP(C40,#REF!,6,FALSE),\"NRA\")","v":"NRA"},{"v":2E-3,"d":"0.002"},0.007]
[null,null,"Antraceno",null,"(µg/L)","ND",{"$f":"IFERROR(VALUE(VLOOKUP(C41,#REF!,8,FALSE)),\"NA\")","v":"NA"},{"$f":"IFERROR(VALUE(VLOOKUP(C41,#REF!,7,FALSE)),\"NA\")","v":"NA"},{"$f":"IFERROR(VLOOKUP(C41,#REF!,6,FALSE),\"NRA\")","v":"NRA"},"NA","NA"]
[null,null,"Fenantreno",null,"(µg/L)",{"$f":"IFERROR(VLOOKUP(C42,#REF!,5,FALSE),\"NRA\")","v":"NRA"},{"$f":"IFERROR(VALUE(VLOOKUP(C42,#REF!,8,FALSE)),\"NA\")","v":"NA"},{"$f":"IFERROR(VALUE(VLOOKUP(C42,#REF!,7,FALSE)),\"NA\")","v":"NA"},{"$f":"IFERROR(VLOOKUP(C42,#REF!,6,FALSE),\"NRA\")","v":"NRA"},"NA","NA"]
[null,null,"Fluoreno",null,"(µg/L)",{"$f":"IFERROR(VLOOKUP(C43,#REF!,5,FALSE),\"NRA\")","v":"NRA"},{"$f":"IFERROR(VALUE(VLOOKUP(C43,#REF!,8,FALSE)),\"NA\")","v":"NA"},{"$f":"IFERROR(VALUE(VLOOKUP(C43,#REF!,7,FALSE)),\"NA\")","v":"NA"},{"$f":"IFERROR(VLOOKUP(C43,#REF!,6,FALSE),\"NRA\")","v":"NRA"},"NA","NA"]
[null,null,"Fluoranteno",null,"(µg/L)","ND",{"$f":"IFERROR(VALUE(VLOOKUP(C44,#REF!,8,FALSE)),\"NA\")","v":"NA"},{"$f":"IFERROR(VALUE(VLOOKUP(C44,#REF!,7,FALSE)),\"NA\")","v":"NA"},{"$f":"IFERROR(VLOOKUP(C44,#REF!,6,FALSE),\"NRA\")","v":"NRA"},"NA","NA"]
[null,null,"Pireno",null,"(µg/L)","ND",{"$f":"IFERROR(VALUE(VLOOKUP(C45,#REF!,8,FALSE)),\"NA\")","v":"NA"},{"$f":"IFERROR(VALUE(VLOOKUP(C45,#REF!,7,FALSE)),\"NA\")","v":"NA"},{"$f":"IFERROR(VLOOKUP(C45,#REF!,6,FALSE),\"NRA\")","v":"NRA"},"NA","NA"]
[null,null,"Benzo(a)antraceno",null,"(µg/L)","ND",{"$f":"IFERROR(VALUE(VLOOKUP(C46,#REF!,8,FALSE)),\"NA\")","v":"NA"},{"$f":"IFERROR(VALUE(VLOOKUP(C46,#REF!,7,FALSE)),\"NA\")","v":"NA"},{"$f":"IFERROR(VLOOKUP(C46,#REF!,6,FALSE),\"NRA\")","v":"NRA"},"NA","NA"]
[null,null,"Benzo(a)pireno",null,"(µg/L)",{"$f":"IFERROR(VLOOKUP(C47,#REF!,5,FALSE),\"NRA\")","v":"NRA"},{"$f":"IFERROR(VALUE(VLOOKUP(C47,#REF!,8,FALSE)),\"NA\")","v":"NA"},{"$f":"IFERROR(VALUE(VLOOKUP(C47,#REF!,7,FALSE)),\"NA\")","v":"NA"},{"$f":"IFERROR(VLOOKUP(C47,#REF!,6,FALSE),\"NRA\")","v":"NRA"},"NA","NA"]
[null,null,"Benzo(b)fluoranteno",null,"(µg/L)",{"$f":"IFERROR(VLOOKUP(C48,#REF!,5,FALSE),\"NRA\")","v":"NRA"},{"$f":"IFERROR(VALUE(VLOOKUP(C48,#REF!,8,FALSE)),\"NA\")","v":"NA"},{"$f":"IFERROR(VALUE(VLOOKUP(C48,#REF!,7,FALSE)),\"NA\")","v":"NA"},{"$f":"IFERROR(VLOOKUP(C48,#REF!,6,FALSE),\"NRA\")","v":"NRA"},"NA","NA"]
[null,null,"Benzo(k)fluoranteno",null,"(µg/L)",{"$f":"IFERROR(VLOOKUP(C49,#REF!,5,FALSE),\"NRA\")","v":"NRA"},{"$f":"IFERROR(VALUE(VLOOKUP(C49,#REF!,8,FALSE)),\"NA\")","v":"NA"},{"$f":"IFERROR(VALUE(VLOOKUP(C49,#REF!,7,FALSE)),\"NA\")","v":"NA"},{"$f":"IFERROR(VLOOKUP(C49,#REF!,6,FALSE),\"NRA\")","v":"NRA"},"NA","NA"]
[null,null,"Criseno",null,"(µg/L)",{"$f":"IFERROR(VLOOKUP(C50,#REF!,5,FALSE),\"NRA\")","v":"NRA"},{"$f":"IFERROR(VALUE(VLOOKUP(C50,#REF!,8,FALSE)),\"NA\")","v":"NA"},{"$f":"IFERROR(VALUE(VLOOKUP(C50,#REF!,7,FALSE)),\"NA\")","v":"NA"},{"$f":"IFERROR(VLOOKUP(C50,#REF!,6,FALSE),\"NRA\")","v":"NRA"},"NA","NA"]
[null,null,"Benzo(ghi)perileno",null,"(µg/L)",{"$f":"IFERROR(VLOOKUP(C51,#REF!,5,FALSE),\"NRA\")","v":"NRA"},{"$f":"IFERROR(VALUE(VLOOKUP(C51,#REF!,8,FALSE)),\"NA\")","v":"NA"},{"$f":"IFERROR(VALUE(VLOOKUP(C51,#REF!,7,FALSE)),\"NA\")","v":"NA"},{"$f":"IFERROR(VLOOKUP(C51,#REF!,6,FALSE),\"NRA\")","v":"NRA"},"NA","NA"]
[null,null,"Dibenzo(a,h)anthraceno",null,"(µg/L)","ND",{"$f":"IFERROR(VALUE(VLOOKUP(C52,#REF!,8,FALSE)),\"NA\")","v":"NA"},{"$f":"IFERROR(VALUE(VLOOKUP(C52,#REF!,7,FALSE)),\"NA\")","v":"NA"},{"$f":"IFERROR(VLOOKUP(C52,#REF!,6,FALSE),\"NRA\")","v":"NRA"},"NA","NA"]
[null,null,"Indeno(1,2,3-cd)pireno",null,"(µg/L)","ND",{"$f":"IFERROR(VALUE(VLOOKUP(C53,#REF!,8,FALSE)),\"NA\")","v":"NA"},{"$f":"IFERROR(VALUE(VLOOKUP(C53,#REF!,7,FALSE)),\"NA\")","v":"NA"},"ND","NA","NA"]
[null,null,"BTEX",null,"(µg/L)",{"$f":"IFERROR(VLOOKUP(C54,#REF!,5,FALSE),\"NRA\")","v":"NRA"},{"$f":"IFERROR(VALUE(VLOOKUP(C54,#REF!,8,FALSE)),\"NA\")","v":"NA"},{"$f":"IFERROR(VALUE(VLOOKUP(C54,#REF!,7,FALSE)),\"NA\")","v":"NA"},{"$f":"IFERROR(VLOOKUP(C54,#REF!,6,FALSE),\"NRA\")","v":"NRA"},"NA","NA"]
[null,null,"Benzeno",null,"(µg/L)",{"$f":"IFERROR(VLOOKUP(C55,#REF!,5,FALSE),\"NRA\")","v":"NRA"},{"$f":"IFERROR(VALUE(VLOOKUP(C55,#REF!,8,FALSE)),\"NA\")","v":"NA"},{"$f":"IFERROR(VALUE(VLOOKUP(C55,#REF!,7,FALSE)),\"NA\")","v":"NA"},{"$f":"IFERROR(VLOOKUP(C55,#REF!,6,FALSE),\"NRA\")","v":"NRA"},"NA",{"v":1.5,"d":"1.500"}]
[null,null,"Tolueno",null,"(µg/L)",{"$f":"IFERROR(VLOOKUP(C56,#REF!,5,FALSE),\"NRA\")","v":"NRA"},{"$f":"IFERROR(VALUE(VLOOKUP(C56,#REF!,8,FALSE)),\"NA\")","v":"NA"},{"$f":"IFERROR(VALUE(VLOOKUP(C56,#REF!,7,FALSE)),\"NA\")","v":"NA"},{"$f":"IFERROR(VLOOKUP(C56,#REF!,6,FALSE),\"NRA\")","v":"NRA"},"NA","NA"]
[null,null,"Etilbenzeno",null,"(µg/L)",{"$f":"IFERROR(VLOOKUP(C57,#REF!,5,FALSE),\"NRA\")","v":"NRA"},{"v":2,"d":"2.000"},{"$f":"IFERROR(VALUE(VLOOKUP(C57,#REF!,7,FALSE)),\"NA\")","v":"NA"},{"$f":"IFERROR(VLOOKUP(C57,#REF!,6,FALSE),\"NRA\")","v":"NRA"},{"v":2,"d":"2.000"},{"v":1.5,"d":"1.500"}]
[null,null,"o-Xilenos",null,"(µg/L)",{"$f":"IFERROR(VLOOKUP(C58,#REF!,5,FALSE),\"NRA\")","v":"NRA"},{"$f":"IFERROR(VALUE(VLOOKUP(C58,#REF!,8,FALSE)),\"NA\")","v":"NA"},{"$f":"IFERROR(VALUE(VLOOKUP(C58,#REF!,7,FALSE)),\"NA\")","v":"NA"},{"$f":"IFERROR(VLOOKUP(C58,#REF!,6,FALSE),\"NRA\")","v":"NRA"},"NA",{"v":1.5,"d":"1.500"}]
[null,null,"m,p-Xilenos",null,"(µg/L)",{"$f":"IFERROR(VLOOKUP(C59,#REF!,5,FALSE),\"NRA\")","v":"NRA"},{"$f":"IFERROR(VALUE(VLOOKUP(C59,#REF!,8,FALSE)),\"NA\")","v":"NA"},{"$f":"IFERROR(VALUE(VLOOKUP(C59,#REF!,7,FALSE)),\"NA\")","v":"NA"},{"$f":"IFERROR(VLOOKUP(C59,#REF!,6,FALSE),\"NRA\")","v":"NRA"},"NA",{"v":1.5,"d":"1.500"}]
[null,null,"Fenóis",null,"(µg/L)",{"$f":"IFERROR(VLOOKUP(C60,#REF!,5,FALSE),\"NRA\")","v":"NRA"},{"$f":"IFERROR(VALUE(VLOOKUP(C60,#REF!,8,FALSE)),\"NA\")","v":"NA"},{"$f":"IFERROR(VALUE(VLOOKUP(C60,#REF!,7,FALSE)),\"NA\")","v":"NA"},{"$f":"IFERROR(VLOOKUP(C60,#REF!,6,FALSE),\"NRA\")","v":"NRA"},"NA","NA"]
[null,null,"Óleos e Graxas",null,"mg/L",{"$f":"IFERROR(VLOOKUP(C61,#REF!,5,FALSE),\"NRA\")","v":"NRA"},{"$f":"IFERROR(VALUE(VLOOKUP(C61,#REF!,8,FALSE)),\"NA\")","v":"NA"},{"$f":"IFERROR(VALUE(VLOOKUP(C61,#REF!,7,FALSE)),\"NA\")","v":"NA"},{"$f":"IFERROR(VLOOKUP(C61,#REF!,6,FALSE),\"NRA\")","v":"NRA"},"NA","NA"]
[null,null,"PARÂMETROS",null,null,"Semestre 1","LD","LQ","Semestre 2","LD","LQ"]
[null,null,"COMPLEMENTARES"]
[null,null,"Carbono Orgânico Total ",null,"mg/L",{"$f":"IFERROR(VLOOKUP(C64,#REF!,5,FALSE),\"NRA\")","v":"NRA"},{"$f":"IFERROR(VALUE(VLOOKUP(C64,#REF!,8,FALSE)),\"NA\")","v":"NA"},{"v":2.5,"d":"2.500"},{"$f":"IFERROR(VLOOKUP(C64,#REF!,6,FALSE),\"NRA\")","v":"NRA"},{"$f":"G64","v":"NA"},{"v":25,"d":"25.000"}]
[null,null,"pH",null,null,7.03,{"$f":"IFERROR(VALUE(VLOOKUP(C65,#REF!,8,FALSE)),\"NA\")","v":"NA"},{"$f":"IFERROR(VALUE(VLOOKUP(C65,#REF!,7,FALSE)),\"NA\")","v":"NA"},6.83,"NA","NA"]
[null,null,"Salinidade",null,"mg/L NaCl",{"$f":"IFERROR(VLOOKUP(C66,#REF!,5,FALSE),\"NRA\")","v":"NRA"},{"$f":"IFERROR(VALUE(VLOOKUP(C66,#REF!,8,FALSE)),\"NA\")","v":"NA"},{"$f":"IFERROR(VALUE(VLOOKUP(C66,#REF!,7,FALSE)),\"NA\")","v":"NA"},{"$f":"IFERROR(VLOOKUP(C66,#REF!,6,FALSE),\"NRA\")","v":"NRA"},"NA","NA"]
[null,null,"Temperatura",null,"º C",{"v":31.3,"d":"31.30"},{"$f":"IFERROR(VALUE(VLOOKUP(C67,#REF!,8,FALSE)),\"NA\")","v":"NA"},{"$f":"IFERROR(VALUE(VLOOKUP(C67,#REF!,7,FALSE)),\"NA\")","v":"NA"},{"v":60.7,"d":"60.70"},"NA","NA"]
[null,null,"Nitrogênio Amoniacal Total",null,"mg/L",{"$f":"IFERROR(VLOOKUP(C68,#REF!,5,FALSE),\"NRA\")","v":"NRA"},{"v":0.6,"d":"0.600"},{"v":2,"d":"2.000"},{"$f":"IFERROR(VLOOKUP(C68,#REF!,6,FALSE),\"NRA\")","v":"NRA"},{"v":0.6,"d":"0.600"},{"v":2,"d":"2.000"}]
[null,null,"ENSAIOS DE TOXICIDADE",null,null,"Semestre 1","LD","LQ","Semestre 2","LD","LQ"]
[null,null,"CRÔNICA"]
[null,null,"Organismo",null,null,"Echinometria lucunter",null,null,"Echinometria lucunter"]
[null,null,"CENO",null,"%",{"$f":"IFERROR(VLOOKUP(C72,#REF!,5,FALSE),\"NRA\")","v":"NRA"},{"$f":"IFERROR(VALUE(VLOOKUP(C72,#REF!,8,FALSE)),\"NA\")","v":"NA"},{"$f":"IFERROR(VALUE(VLOOKUP(C72,#REF!,7,FALSE)),\"NA\")","v":"NA"},{"$f":"IFERROR(VLOOKUP(C72,#REF!,6,FALSE),\"NRA\")","v":"NRA"},{"$f":"G72","v":"NA"},{"$f":"H72","v":"NA"}]
[null,null,"CEO",null,"%",{"$f":"IFERROR(VLOOKUP(C73,#REF!,5,FALSE),\"NRA\")","v":"NRA"},{"$f":"IFERROR(VALUE(VLOOKUP(C73,#REF!,8,FALSE)),\"NA\")","v":"NA"},{"$f":"IFERROR(VALUE(VLOOKUP(C73,#REF!,7,FALSE)),\"NA\")","v":"NA"},{"$f":"IFERROR(VLOOKUP(C73,#REF!,6,FALSE),\"NRA\")","v":"NRA"},{"$f":"G73","v":"NA"},{"$f":"H73","v":"NA"}]
[null,null,"NRA: Não realizada a análise"]
[null,null,"N.D.:Não detectado acima do limite de detecção"]
[null,null,"NA: Não Aplicável"]