3.00000000000000E+0001
0.00000000000000E+0000
0.00000000000000E+0000
-3.00000000000000E+0001
4.82210000000000E+0005
8.66275000000000E+0006
