file format : IDRISI Raster A.1
file title  :
data type   : RGB24
file type   : binary
columns     : 7836
rows        : 6770
ref. system : plane
ref. units  : m
unit dist.  : 1.0000000
min. X      : 484820.0000000
max. X      : 719900.0000000
min. Y      : 8459650.0000000
max. Y      : 8662750.0000000
pos'n error : 0.0000002
resolution  : 30.0000000
min. value  : 0 0 0
max. value  : 255 255 255
display min : 0 0 0
display max : 178 168 190
value units : m
value error : unknown
flag value  : none
flag def'n  : none
legend cats : 0
lineage     : This file was created by COMPOSITE with the command line:
lineage     : C:\ford\2003\reslandsat_5_tm_20030809_215_069_l2_band3.rst*C:\ford\2003\reslandsat_5_tm_20030809_215_069_l2_band4.rst*C:\ford\2003\reslandsat_5_tm_20030809_215_069_l2_band5.rst*C:\ford\2003\res_comp_345.rst*1*2*1*3
