3,1555298567389864
-0,057616016412676614
-0,058223242836399645
-3,1385262343850413
740204,71249967907
7182246,5577322626
