0,0013934796473459149
-4,344663663617482e-006
-6,5684905302454151e-006
-0,0013895174867878158
-43,504565718759757
-22,761857651558891
