0,0015985392864350089
5,9047814629655799e-006
-1,0027079355508901e-006
-0,0015989690319103069
-45,921655134182672
-23,257499515206
