0,00078969797484681168
-5,2836125535871565e-007
3,9321499709284089e-006
-0,00079432804496527669
-46,580937141802373
-23,778208116582121
