0,0029902087128754274
-2,6773163406271861e-006
5,9461970440362169e-005
-0,0029732397125894275
-47,734571338541329
-23,715942730743151
