25.0000000000
0.0000000000
0.0000000000
-25.0000000000
6178957.6240461376
11232678.1971121470
