0.60000000000000
0.00000000000000
0.00000000000000
-0.60000000000000
609592.54099999997000
7472662.24000000020000
