13.409405179182432
0.000657749131408202040
0.000657749131408202040
-13.409405179182432
564060.45866612124
9298407.9347329773
