0.000009034998616
0.000000000000000
0.000000000000000
-0.000009034998616
-50.577392902500684
-6.335426607499308
