0.000009034998616
0.000000000000000
0.000000000000000
-0.000009034998616
-49.666735462500696
-6.243417487499308
