0.000009034998616
0.000000000000000
0.000000000000000
-0.000009034998616
-49.738984492500684
-6.225527327499308
