0.000009034998616
0.000000000000000
0.000000000000000
-0.000009034998616
-50.331957502500686
-6.557919087499307
