0.000009034998616
0.000000000000000
0.000000000000000
-0.000009034998616
-50.331966532500694
-6.177805167499308
