0.000009034998616
0.000000000000000
0.000000000000000
-0.000009034998616
-50.506579642500689
-6.443870447499308
