0.000009034998616
0.000000000000000
0.000000000000000
-0.000009034998616
-50.512485262500689
-6.389558127499308
