0.000009034998616
0.000000000000000
0.000000000000000
-0.000009034998616
-50.588255992500684
-6.299158127499308
