0.000009034998616
0.000000000000000
0.000000000000000
-0.000009034998616
-50.613603202500684
-6.226946607499308
