0.000009034998616
0.000000000000000
0.000000000000000
-0.000009034998616
-50.638905262500685
-6.226937567499307
