0.000009034998616
0.000000000000000
0.000000000000000
-0.000009034998616
-50.691053512500694
-6.154572367499308
