0.000009034998616
0.000000000000000
0.000000000000000
-0.000009034998616
-50.663322382500695
-6.093995327499308
