0.008333333333333
0.000000000000000
0.000000000000000
-0.008333333333333
-179.995833333333340
89.995833333333337
