!table
!version 300
!charset WindowsLatin1

Definition Table
  File "radam_2.tif"
  Type "RASTER"
  (0,1) (0,0) Label "Pt 1",
  (1,1) (1,0) Label "Pt 2",
  (0,0) (0,1) Label "Pt 3"
  CoordSys NonEarth
  Units "ft"
  Units "ft"
