0,0007723712034414437
2,2623618280699896e-006
2,6594542574056425e-006
-0,00076511140543589033
-42,023331549098771
-8,0102517699076934
