5.00000000000000
0.00000000000000
0.00000000000000
-5.00000000000000
574052.50000000000000
9037184.31499999950000
