5.00000000000000
0.00000000000000
0.00000000000000
-5.00000000000000
797737.50000000000000
9201069.31499999950000
