5.00000000000000
0.00000000000000
0.00000000000000
-5.00000000000000
786812.50000000000000
9088657.50000000000000
