0,0008333333
0,0000000000
0,0000000000
-0,0008333333
-45,8512500001
-0,7904166666
