30,8379333498
0,0000000000
0,0000000000
-30,8379333498
-95641,6834320441
9709880,6456404384
