30,8379333528
0,0000000000
0,0000000000
-30,8379333528
572088,8944725720
9709852,0423295666
