5.00000000000000000
0.00000000000000000
0.00000000000000000
-5.00000000000000000
300596.12306130386000000
9732725.09703938480000000
