5.00000000000000000
0.00000000000000000
0.00000000000000000
-5.00000000000000000
166596.79794345936000000
9732837.00601595830000000
