0.0008337680
0.0000000000
0.0000000000
-0.0008337680
-45.3858335214
-9.6952249747
